BEGIN:VCALENDAR
PRODID:-//climbIT//Tourenangebot//DE
VERSION:2.0
METHOD:PUBLISH
BEGIN:VEVENT
UID:tour-5bdc05d0-7674-4564-b91e-000dac120015@touren.sac-davos.ch
DTSTAMP:20260423T110041
SEQUENCE:0
CLASS:PUBLIC
TRANSP:OPAQUE
DTSTART;VALUE=DATE:20190102
DTEND;VALUE=DATE:20190103
SUMMARY:Sektion Davos: Katerbummel
DESCRIPTION:Nach deiner Anmeldung und bei jeder Statusänderung wird ein Kalendereintrag per E-Mail verschickt.\n\nAktuelle Informationen\nTourenlink: https://touren.sac-davos.ch/tours/view/5bdc05d0-7674-4564-b91e-000dac120015\n\n\nDein Tourenangebot Team
END:VEVENT
END:VCALENDAR