BEGIN:VCALENDAR
PRODID:-//climbIT//Tourenangebot//DE
VERSION:2.0
METHOD:PUBLISH
BEGIN:VEVENT
UID:tour-a1c7a335-e8ba-487c-82c7-9884a73f2fd1@touren.sac-davos.ch
DTSTAMP:20260424T085909
SEQUENCE:0
CLASS:PUBLIC
TRANSP:OPAQUE
DTSTART;VALUE=DATE:20240814
DTEND;VALUE=DATE:20240815
SUMMARY:Sektion Davos: Zu den Strudeltöpfen auf Alp Mora
DESCRIPTION:Nach deiner Anmeldung und bei jeder Statusänderung wird ein Kalendereintrag per E-Mail verschickt.\n\nAktuelle Informationen\nTourenlink: https://touren.sac-davos.ch/tours/view/a1c7a335-e8ba-487c-82c7-9884a73f2fd1\n\n\nDein Tourenangebot Team
END:VEVENT
END:VCALENDAR